BEGIN:VCALENDAR
VERSION:2.0
PRODID:-//Elternrat Selzach - ECPv6.15.15//NONSGML v1.0//EN
CALSCALE:GREGORIAN
METHOD:PUBLISH
X-WR-CALNAME:Elternrat Selzach
X-ORIGINAL-URL:https://www.elternrat-selzach.ch/elternrat
X-WR-CALDESC:Veranstaltungen für Elternrat Selzach
REFRESH-INTERVAL;VALUE=DURATION:PT1H
X-Robots-Tag:noindex
X-PUBLISHED-TTL:PT1H
BEGIN:VTIMEZONE
TZID:Europe/Zurich
BEGIN:DAYLIGHT
TZOFFSETFROM:+0100
TZOFFSETTO:+0200
TZNAME:CEST
DTSTART:20240331T010000
END:DAYLIGHT
BEGIN:STANDARD
TZOFFSETFROM:+0200
TZOFFSETTO:+0100
TZNAME:CET
DTSTART:20241027T010000
END:STANDARD
BEGIN:DAYLIGHT
TZOFFSETFROM:+0100
TZOFFSETTO:+0200
TZNAME:CEST
DTSTART:20250330T010000
END:DAYLIGHT
BEGIN:STANDARD
TZOFFSETFROM:+0200
TZOFFSETTO:+0100
TZNAME:CET
DTSTART:20251026T010000
END:STANDARD
BEGIN:DAYLIGHT
TZOFFSETFROM:+0100
TZOFFSETTO:+0200
TZNAME:CEST
DTSTART:20260329T010000
END:DAYLIGHT
BEGIN:STANDARD
TZOFFSETFROM:+0200
TZOFFSETTO:+0100
TZNAME:CET
DTSTART:20261025T010000
END:STANDARD
END:VTIMEZONE
BEGIN:VEVENT
DTSTART;TZID=Europe/Zurich:20251104T183000
DTEND;TZID=Europe/Zurich:20251104T200000
DTSTAMP:20260420T013153
CREATED:20250916T072446Z
LAST-MODIFIED:20251008T095526Z
UID:2604-1762281000-1762286400@www.elternrat-selzach.ch
SUMMARY:Referat Mobbing
DESCRIPTION:Ursachen und Formen von Mobbing\nPräventionsmöglichkeiten\nHandlungsmöglichkeiten für Eltern und Lehrpersonen\n\nAnschliessend\, gemütliches Zusammensein bei Kaffee und Kuchen \nBitte aktiviere JavaScript in deinem Browser\, um dieses Formular fertigzustellen.Bitte aktiviere JavaScript in deinem Browser\, um dieses Formular fertigzustellen.		\n			Personen E-Mail-Adresse Anzahl\n			\n		\n		E-Mail-Adresse *Anzahl Personen *Absenden
URL:https://www.elternrat-selzach.ch/elternrat/event/referat-mobbing/
LOCATION:Gemeindezentrum\, Dorfstrasse 35\, Selzach\, Solothurn\, 2545\, Switzerland
ATTACH;FMTTYPE=image/jpeg:https://www.elternrat-selzach.ch/elternrat/wp-content/uploads/2025/10/Mobbing.jpg
END:VEVENT
END:VCALENDAR