BEGIN:VCALENDAR
VERSION:2.0
PRODID:-//Elternrat Selzach - ECPv6.15.15//NONSGML v1.0//EN
CALSCALE:GREGORIAN
METHOD:PUBLISH
X-ORIGINAL-URL:https://www.elternrat-selzach.ch/elternrat
X-WR-CALDESC:Veranstaltungen für Elternrat Selzach
REFRESH-INTERVAL;VALUE=DURATION:PT1H
X-Robots-Tag:noindex
X-PUBLISHED-TTL:PT1H
BEGIN:VTIMEZONE
TZID:Europe/Zurich
BEGIN:DAYLIGHT
TZOFFSETFROM:+0100
TZOFFSETTO:+0200
TZNAME:CEST
DTSTART:20250330T010000
END:DAYLIGHT
BEGIN:STANDARD
TZOFFSETFROM:+0200
TZOFFSETTO:+0100
TZNAME:CET
DTSTART:20251026T010000
END:STANDARD
BEGIN:DAYLIGHT
TZOFFSETFROM:+0100
TZOFFSETTO:+0200
TZNAME:CEST
DTSTART:20260329T010000
END:DAYLIGHT
BEGIN:STANDARD
TZOFFSETFROM:+0200
TZOFFSETTO:+0100
TZNAME:CET
DTSTART:20261025T010000
END:STANDARD
BEGIN:DAYLIGHT
TZOFFSETFROM:+0100
TZOFFSETTO:+0200
TZNAME:CEST
DTSTART:20270328T010000
END:DAYLIGHT
BEGIN:STANDARD
TZOFFSETFROM:+0200
TZOFFSETTO:+0100
TZNAME:CET
DTSTART:20271031T010000
END:STANDARD
END:VTIMEZONE
BEGIN:VEVENT
DTSTART;TZID=Europe/Zurich:20260128T201500
DTEND;TZID=Europe/Zurich:20260128T213000
DTSTAMP:20260419T224559
CREATED:20251008T103435Z
LAST-MODIFIED:20251008T103435Z
UID:2650-1769631300-1769635800@www.elternrat-selzach.ch
SUMMARY:Delegiertensitzung
DESCRIPTION:
URL:https://www.elternrat-selzach.ch/elternrat/event/delegiertensitzung-3/
LOCATION:Gemeindeverwaltung\, Schänzlistrasse 2\, Selzach\, Solothurn\, 2545\, Switzerland
END:VEVENT
END:VCALENDAR