BEGIN:VCALENDAR
VERSION:2.0
PRODID:-//Elternrat Selzach - ECPv6.15.15//NONSGML v1.0//EN
CALSCALE:GREGORIAN
METHOD:PUBLISH
X-ORIGINAL-URL:https://www.elternrat-selzach.ch/elternrat
X-WR-CALDESC:Veranstaltungen für Elternrat Selzach
REFRESH-INTERVAL;VALUE=DURATION:PT1H
X-Robots-Tag:noindex
X-PUBLISHED-TTL:PT1H
BEGIN:VTIMEZONE
TZID:Europe/Zurich
BEGIN:DAYLIGHT
TZOFFSETFROM:+0100
TZOFFSETTO:+0200
TZNAME:CEST
DTSTART:20240331T010000
END:DAYLIGHT
BEGIN:STANDARD
TZOFFSETFROM:+0200
TZOFFSETTO:+0100
TZNAME:CET
DTSTART:20241027T010000
END:STANDARD
BEGIN:DAYLIGHT
TZOFFSETFROM:+0100
TZOFFSETTO:+0200
TZNAME:CEST
DTSTART:20250330T010000
END:DAYLIGHT
BEGIN:STANDARD
TZOFFSETFROM:+0200
TZOFFSETTO:+0100
TZNAME:CET
DTSTART:20251026T010000
END:STANDARD
BEGIN:DAYLIGHT
TZOFFSETFROM:+0100
TZOFFSETTO:+0200
TZNAME:CEST
DTSTART:20260329T010000
END:DAYLIGHT
BEGIN:STANDARD
TZOFFSETFROM:+0200
TZOFFSETTO:+0100
TZNAME:CET
DTSTART:20261025T010000
END:STANDARD
END:VTIMEZONE
BEGIN:VEVENT
DTSTART;TZID=Europe/Zurich:20251104T183000
DTEND;TZID=Europe/Zurich:20251104T200000
DTSTAMP:20260420T001255
CREATED:20250916T072446Z
LAST-MODIFIED:20251008T095526Z
UID:2604-1762281000-1762286400@www.elternrat-selzach.ch
SUMMARY:Referat Mobbing
DESCRIPTION:Ursachen und Formen von Mobbing\nPräventionsmöglichkeiten\nHandlungsmöglichkeiten für Eltern und Lehrpersonen\n\nAnschliessend\, gemütliches Zusammensein bei Kaffee und Kuchen \nBitte aktiviere JavaScript in deinem Browser\, um dieses Formular fertigzustellen.Bitte aktiviere JavaScript in deinem Browser\, um dieses Formular fertigzustellen.E-Mail-Adresse *		\n			Anzahl E-Mail-Adresse Personen\n			\n		\n		Anzahl Personen *Absenden
URL:https://www.elternrat-selzach.ch/elternrat/event/referat-mobbing/
LOCATION:Gemeindezentrum\, Dorfstrasse 35\, Selzach\, Solothurn\, 2545\, Switzerland
ATTACH;FMTTYPE=image/jpeg:https://www.elternrat-selzach.ch/elternrat/wp-content/uploads/2025/10/Mobbing.jpg
END:VEVENT
BEGIN:VEVENT
DTSTART;TZID=Europe/Zurich:20251114T170000
DTEND;TZID=Europe/Zurich:20251114T185000
DTSTAMP:20260420T001255
CREATED:20251008T103738Z
LAST-MODIFIED:20251026T195028Z
UID:2658-1763139600-1763146200@www.elternrat-selzach.ch
SUMMARY:Erzählnacht 2025 "Zeitreise"
DESCRIPTION:Im Rahmen der Schweizer Erzählnacht 2025 organisiert der Elternrat Selzach einen Anlass für alle Kinder ab etwa 4 Jahren und Erwachsene. \nIn 4 Blöcken von jeweils ca. 20 Minuten werden spannende\, lustige\, wundersame\, fesselnde und lebendige Geschichten erzählt und vorgelesen. Dazwischen gibt es zur Stärkung eine kleine\, kostenlose Verpflegung.\n \nWenn ihr es euch bequem machen wollt\, bringt ein Kissen oder eine Decke mit. \nEin Ein- und Ausstieg ist alle halbe Stunde möglich (17:00 / 17:30 / 18:00 / 18:30). \nEine Anmeldung ist nicht zwingend\, wäre aber für uns sehr hilfreich. \nLink für die Anmeldung: Anmeldung \nDie Veranstaltung ist kostenlos. Über eine freiwillige Kollekte freut sich der Elternrat sehr. \nLink zum Flyer: Flyer_Erzaehlnacht2025.pdf
URL:https://www.elternrat-selzach.ch/elternrat/event/erzaehlnacht-2025/
LOCATION:Reformiertes Kirchgemeindehaus Schänzli\, Gänsbrühlweg 10a\, Selzach\, 2545\, Switzerland
ATTACH;FMTTYPE=image/png:https://www.elternrat-selzach.ch/elternrat/wp-content/uploads/2025/10/Erzaehlnacht_2025.png
END:VEVENT
BEGIN:VEVENT
DTSTART;TZID=Europe/Zurich:20251119T201500
DTEND;TZID=Europe/Zurich:20251119T213000
DTSTAMP:20260420T001255
CREATED:20251008T103359Z
LAST-MODIFIED:20251008T103359Z
UID:2648-1763583300-1763587800@www.elternrat-selzach.ch
SUMMARY:Delegiertensitzung
DESCRIPTION:
URL:https://www.elternrat-selzach.ch/elternrat/event/delegiertensitzung-2/
LOCATION:Gemeindeverwaltung\, Schänzlistrasse 2\, Selzach\, Solothurn\, 2545\, Switzerland
END:VEVENT
END:VCALENDAR