BEGIN:VCALENDAR
VERSION:2.0
PRODID:-//Elternrat Selzach - ECPv6.15.15//NONSGML v1.0//EN
CALSCALE:GREGORIAN
METHOD:PUBLISH
X-WR-CALNAME:Elternrat Selzach
X-ORIGINAL-URL:https://www.elternrat-selzach.ch/elternrat
X-WR-CALDESC:Veranstaltungen für Elternrat Selzach
REFRESH-INTERVAL;VALUE=DURATION:PT1H
X-Robots-Tag:noindex
X-PUBLISHED-TTL:PT1H
BEGIN:VTIMEZONE
TZID:Europe/Zurich
BEGIN:DAYLIGHT
TZOFFSETFROM:+0100
TZOFFSETTO:+0200
TZNAME:CEST
DTSTART:20240331T010000
END:DAYLIGHT
BEGIN:STANDARD
TZOFFSETFROM:+0200
TZOFFSETTO:+0100
TZNAME:CET
DTSTART:20241027T010000
END:STANDARD
BEGIN:DAYLIGHT
TZOFFSETFROM:+0100
TZOFFSETTO:+0200
TZNAME:CEST
DTSTART:20250330T010000
END:DAYLIGHT
BEGIN:STANDARD
TZOFFSETFROM:+0200
TZOFFSETTO:+0100
TZNAME:CET
DTSTART:20251026T010000
END:STANDARD
BEGIN:DAYLIGHT
TZOFFSETFROM:+0100
TZOFFSETTO:+0200
TZNAME:CEST
DTSTART:20260329T010000
END:DAYLIGHT
BEGIN:STANDARD
TZOFFSETFROM:+0200
TZOFFSETTO:+0100
TZNAME:CET
DTSTART:20261025T010000
END:STANDARD
END:VTIMEZONE
BEGIN:VEVENT
DTSTART;TZID=Europe/Zurich:20251201T190000
DTEND;TZID=Europe/Zurich:20251201T203000
DTSTAMP:20260419T224549
CREATED:20250916T070741Z
LAST-MODIFIED:20250916T072254Z
UID:2591-1764615600-1764621000@www.elternrat-selzach.ch
SUMMARY:Keine Angst vor Videogames
DESCRIPTION:Positive Aspekte\nvon Games \nDas Gamen bietet zahlreiche Chancen: Kinder und Jugendliche erlangen\ndabei Fähigkeiten\, die ihnen auch in der Schule und in anderen\nLebensbereichen etwas bringen. Zum Beispiel punkto Multitasking und\nReaktionsfähigkeit\, aber auch in Bezug auf soziale und persönliche Themen.\nAls Erziehungsberechtigte sollten wir unseren Kindern den Weg zu einer\nselbstbestimmten und gesunden Nutzung von Games bestmöglich ebnen.\nNur so können sie das Beste aus den Spielen herausholen. \nReferent  \nDr. Florian Lippuner\, Kommunikationswissenschaftler\, Elternbildner\, Autor\n«Das Biografiespiel» und «Keine Angst vor Videogames»\, Familienvater mit\nlangjähriger Spielerfahrung\ngameflow.ch \nAnschliessend gibt es noch Kaffe & Kuchen \nBitte aktiviere JavaScript in deinem Browser\, um dieses Formular fertigzustellen.Bitte aktiviere JavaScript in deinem Browser\, um dieses Formular fertigzustellen.		\n			Anzahl Personen Mail\n			\n		\n		Mail Adresse *Anzahl PersonenAnmelden
URL:https://www.elternrat-selzach.ch/elternrat/event/keine-angst-vor-videogames/
LOCATION:Gemeindezentrum\, Dorfstrasse 35\, Selzach\, Solothurn\, 2545\, Switzerland
ATTACH;FMTTYPE=application/pdf:https://www.elternrat-selzach.ch/elternrat/wp-content/uploads/2025/09/Flyer-Videogames.pdf
END:VEVENT
END:VCALENDAR